BEGIN:VCALENDAR
VERSION:2.0
PRODID:-//eventon.com NONSGML v1.0//EN
CALSCALE:GREGORIAN
METHOD:PUBLISH
BEGIN:VEVENT
UID:69e1dceca6222
DTSTAMP:20260417T071036
DTSTART:20260429
DTEND:20260430
TZID:Europe/London
LOCATION:
SUMMARY:Théâtre Petit Champlain
DESCRIPTION:\nhttps://dombabin.ca/events/theatre-petit-champlain/
URL:https://dombabin.ca/events/theatre-petit-champlain/
END:VEVENT
END:VCALENDAR