BEGIN:VCALENDAR
VERSION:2.0
PRODID:-//eventon.com NONSGML v1.0//EN
CALSCALE:GREGORIAN
METHOD:PUBLISH
BEGIN:VEVENT
UID:69e1837bd5427
DTSTAMP:20260417T004859
DTSTART:20260506
DTEND:20260507
TZID:Europe/London
LOCATION:
SUMMARY:Le Terminal Comédie Club
DESCRIPTION:\nhttps://dombabin.ca/events/le-terminal-comedie-club-2/
URL:https://dombabin.ca/events/le-terminal-comedie-club-2/
END:VEVENT
END:VCALENDAR