BEGIN:VCALENDAR
VERSION:2.0
PRODID:-//eventon.com NONSGML v1.0//EN
CALSCALE:GREGORIAN
METHOD:PUBLISH
BEGIN:VEVENT
UID:69e2116d5cabc
DTSTAMP:20260417T105437
DTSTART:20260617
DTEND:20260618
TZID:Europe/London
LOCATION:
SUMMARY:Maison des Arts Desjardins
DESCRIPTION:\nhttps://dombabin.ca/events/maison-des-arts-desjardins/
URL:https://dombabin.ca/events/maison-des-arts-desjardins/
END:VEVENT
END:VCALENDAR