BEGIN:VCALENDAR
VERSION:2.0
PRODID:-//eventon.com NONSGML v1.0//EN
CALSCALE:GREGORIAN
METHOD:PUBLISH
BEGIN:VEVENT
UID:69e1812e86c2d
DTSTAMP:20260417T003910
DTSTART:20260422
DTEND:20260423
TZID:Europe/London
LOCATION:
SUMMARY:Vieux Bureau de Poste
DESCRIPTION:\nhttps://dombabin.ca/events/vieux-bureau-de-poste-2/
URL:https://dombabin.ca/events/vieux-bureau-de-poste-2/
END:VEVENT
END:VCALENDAR