BEGIN:VCALENDAR
VERSION:2.0
PRODID:-//eventon.com NONSGML v1.0//EN
CALSCALE:GREGORIAN
METHOD:PUBLISH
BEGIN:VEVENT
UID:69e1e180ba649
DTSTAMP:20260417T073008
DTSTART:20260508
DTEND:20260509
TZID:Europe/London
LOCATION:
SUMMARY:Salle du Moulinet
DESCRIPTION:\nhttps://dombabin.ca/events/salle-du-moulinet-2/
URL:https://dombabin.ca/events/salle-du-moulinet-2/
END:VEVENT
END:VCALENDAR