BEGIN:VCALENDAR
VERSION:2.0
PRODID:-//eventon.com NONSGML v1.0//EN
CALSCALE:GREGORIAN
METHOD:PUBLISH
BEGIN:VEVENT
UID:69e20fa1863bd
DTSTAMP:20260417T104657
DTSTART:20260612
DTEND:20260613
TZID:Europe/London
LOCATION:
SUMMARY:Maison de la Culture
DESCRIPTION:\nhttps://dombabin.ca/events/maison-de-la-culture/
URL:https://dombabin.ca/events/maison-de-la-culture/
END:VEVENT
END:VCALENDAR