BEGIN:VCALENDAR
VERSION:2.0
PRODID:-//eventon.com NONSGML v1.0//EN
CALSCALE:GREGORIAN
METHOD:PUBLISH
BEGIN:VEVENT
UID:69e18446bb74c
DTSTAMP:20260417T005222
DTSTART:20270313
DTEND:20270314
TZID:Europe/London
LOCATION:
SUMMARY:Théâtre Hector-Charland
DESCRIPTION:\nhttps://dombabin.ca/events/theatre-hector-charland-2/
URL:https://dombabin.ca/events/theatre-hector-charland-2/
END:VEVENT
END:VCALENDAR